BEGIN:VCALENDAR
PRODID:-//AT Content Types//AT Event//EN
VERSION:2.0
METHOD:PUBLISH
BEGIN:VEVENT
DTSTAMP:20260422T230006Z
CREATED:20260217T084725Z
UID:ATEvent-72702b880e854c5da72070b22da1c048
LAST-MODIFIED:20260217T084725Z
SUMMARY:HESKETH PARK LEGACY PROJECT: CONSERVATORY RESTORATION PROPOSAL PRESENTATION
DTSTART:20260304T100000Z
DTEND:20260304T130000Z
DESCRIPTION:Join us for an hour presentation where we will be sharing 
 our proposals for the restoration of the conservatory with you.\n\nThe
  conservatory will be open from 10.00am until 1.00pm to give you an op
 portunity to look at the proposals with a talk being given at 11.00am.
 \n\nThere will be an opportunity to ask questions and provide feedback
  following the talk.\n\nThis session is for us to share information wi
 th the community about the plans for the conservatory's restoration wo
 rk.
LOCATION:Hesketh Park Conservatory\, Southport
CLASS:PUBLIC
END:VEVENT
END:VCALENDAR
