BEGIN:VCALENDAR
PRODID:-//AT Content Types//AT Event//EN
VERSION:2.0
METHOD:PUBLISH
BEGIN:VEVENT
DTSTAMP:20260422T225120Z
CREATED:20230607T080726Z
UID:ATEvent-53a049082eaa40b0a58b7dbd4c647699
LAST-MODIFIED:20230609T133202Z
SUMMARY:Maternity services listening event.
DTSTART:20230714T083000Z
DTEND:20230714T103000Z
DESCRIPTION:Event will take place in the Oak Room of the Linaker Famil
 y Wellbeing Centre (PR8 5DQ)
CLASS:PUBLIC
END:VEVENT
END:VCALENDAR
