BEGIN:VCALENDAR
PRODID:-//AT Content Types//AT Event//EN
VERSION:2.0
METHOD:PUBLISH
BEGIN:VEVENT
DTSTAMP:20260420T033434Z
CREATED:20250805T151904Z
UID:ATEvent-32977325f76e4bc69a0572277eca147d
LAST-MODIFIED:20250805T151907Z
SUMMARY:Your Home Your Say Coproduction Group Meeting
DTSTART:20250915T120000Z
DTEND:20250915T140000Z
DESCRIPTION:Your experience and views will help us co-design this serv
 ice.  We value your involvement as experts with lived experience and o
 rganisations who either provide or support people.\n\nSouthport Town H
 all (Birkdale Room)\nLord Street\, Southport PR8 1DA
CLASS:PUBLIC
END:VEVENT
END:VCALENDAR
